BEGIN:VCALENDAR
VERSION:2.0
PRODID:-//wp-events-plugin.com//7.1.7//EN
TZID:Europe/Stockholm
X-WR-TIMEZONE:Europe/Stockholm
BEGIN:VEVENT
UID:7-4460@clubcorvette.se
DTSTART;TZID=Europe/Stockholm:20260501T083000
DTEND;TZID=Europe/Stockholm:20260501T170000
DTSTAMP:20260419T074803Z
URL:https://clubcorvette.se/vast/aktivitet/varrallyt-sportvagnsklubben-svk
 g-1-maj-2/
SUMMARY:Vårrallyt Sportvagnsklubben - SVKG 1 maj
DESCRIPTION:Vi får även i år  möjligheten att deltaga i Sportvagnsklub
 ben Göteborgs (SVKG) vårrally den 1:a maj. Läs mer och boka direkt på 
 SVKG:s hemsida svkg.se/evenemang/varrallyt-2026/ \n\n\n\n 	När: fredagen
  1:a maj 2026\n 	Startplats: Café Torpet\, Skepplanda\n 	Mål: Hemligt\n 
 	Kostnad: SVKG-medlem (föranmälan) 200:-. SVKG-medlem (utan föranmälan
 ) 250:- \, Icke-medlem 250:-\n 	Anmälan: senast 25:e april\, här.\n\n&nb
 sp\;\n\n
END:VEVENT
BEGIN:VTIMEZONE
TZID:Europe/Stockholm
X-LIC-LOCATION:Europe/Stockholm
BEGIN:DAYLIGHT
DTSTART:20260329T030000
TZOFFSETFROM:+0100
TZOFFSETTO:+0200
TZNAME:CEST
END:DAYLIGHT
END:VTIMEZONE
END:VCALENDAR