BEGIN:VCALENDAR
VERSION:2.0
PRODID:-//wp-events-plugin.com//7.1.7//EN
TZID:Europe/Stockholm
X-WR-TIMEZONE:Europe/Stockholm
BEGIN:VEVENT
UID:8-972@clubcorvette.se
DTSTART;TZID=Europe/Stockholm;VALUE=DATE:20160521
DTEND;TZID=Europe/Stockholm;VALUE=DATE:20160523
DTSTAMP:20160416T080215Z
URL:https://clubcorvette.se/sydost/aktivitet/varutflykt-med-distrikt-syd/
SUMMARY:Vårutflykt med distrikt Syd
DESCRIPTION: Vårutflykt med distrikt Syd\n \n\n\nOBS: Bokningsmöjlighet
 en är stängd och avslutad.\nSydösts &amp\; Syds vårträff den 21-22maj
 \nVi samlas i Hamnen i Karlshamn på Gourmetgrön där vi tar en gemensam 
 frukostfralla med dryck.\n\nSedan ger vi oss ut på en runda med spännand
 e resmål och något för magen på vägen innan det är dags att parkera 
 och checka in på rummet.\n\nHär finns bl.a. shopping glas mm\, Kosta out
 let är öppen alla dagar ifrån 10:00 till 20:00 se länk. http://www.kos
 taoutlet.se/hem.html\n\nMiddag serveras kl. 20:00.\n\nPå söndag finns m
 öjlighet för studiebesök på muséet öppnar kl. 10:00 eller glashyttan
  öppnar kl. 11:00.\n\nFikabuffé kl. 12:00 och sedan farväl\, det går b
 ra att använda spa mm efter utcheckning om så önskas.\n\nFöljande alte
 rnativ finns för träffen\, priserna är per person.\n\n1. Enkelrum Kost
 a Boda Art Hotell\nI hotellpaket ingår: Frukostfralla i hamnen Karlshamn\
 , studiebesök\, lätt lunch\,\nTre-rätters supé\, frukostbuffé\, fikab
 uffé vid avfärd.\nMorgonrock o tofflor på rummet\, entré till spa\, ba
 stu\, pool\, gym.\nUtcheckning 11:00\nPris: 1825: -/person.\nHemsida. http
 ://www.kbah.se/\n\n2. Del i dubbelrum Kosta Boda Art Hotell\nI hotellpaket
  ingår: Frukostfralla i hamnen Karlshamn\, studiebesök\, lätt lunch\, d
 el i\ndubbelrum\, Tre-rätters supé\, frukostbuffé\, fikabuffé vid avf
 ärd.\nMorgonrock o tofflor på rummet\, entré till spa\, bastu\, pool\, 
 gym.\nUtcheckning 11:00\nPris: 1375: -/person.\nHemsida. http://www.kbah.s
 e/\n\n3. Ej boende\, men i övrigt allt.\nIngår: Frukostfralla i hamnen K
 arlshamn\, studiebesök\, lätt lunch\,\nTre-rätters supé.\nPris: 750:- 
 /person\n\n4. Dagpaket\, utan boende och supé.\nIngår: Frukostfralla i h
 amnen Karlshamn\, studiebesök\, lätt lunch.\nPris: 150:- / person.\n\nAn
 mälan öppnar lördag 13 februari\, klicka på Anmälan uppe till vänste
 r.\n\nOBS ! Sista anmälningsdag är den 15 april för att vi skall kunna 
 garantera platser.\n\nLogga in och välj ett av alternativen ovan 1\, 2\, 
 3 eller 4.\n\nSamling: Gourmetgrön i Karlshamn\, Hamnen i Karlshamn senas
 t kl. 09:00.\n\nKostnad: se ovan\n\nTräffavgiften betalas/överförs in p
 å klubbens konto på Swedbank :  8166-1\, 944 683 105-0\n\n\n\n\n\nMärk
  inbetalning med medlemsnummer samt KOSTA. T.ex. 1695KOSTA. ABSOLUT INGET 
 ANNAT.\n\nOBS: Betala inte in pengar i förväg innan datumet för tidigas
 te anmälan är inne.\n\nAnmälan här på hemsidan och inbetalning av tr
 äffavgifter skall göras samtidigt\n\nI rutan kommentarer på bokningssid
 an skriver man om man har någon allergi eller gluten\, laktos mm.\n\nHär
  anges också om man önskar rum för hund. Det finns 2 st. hundrum på ho
 tellet så först till kvarn gäller.\n\nFrågor:Anders Sandin\, 0455-816 
 71\, 070-918 92 56\, anders.sandin@clubcorvette.se\n\n\n\n\n\nPeter Anders
 son\, 070-956 00 77\, peter.andersson@clubcorvette.se\n\n\n\n\n\n\n&nbsp\;
 \n\n&nbsp\;
LOCATION:Restaurang Gourmet Grön\,  Biblioteksgatan 6\, Karlshamn\, 37435\
 , Sverige
GEO:56.1641019;14.86609390000001
X-APPLE-STRUCTURED-LOCATION;VALUE=URI;X-ADDRESS= Biblioteksgatan 6\, Karlsh
 amn\, 37435\, Sverige;X-APPLE-RADIUS=100;X-TITLE=Restaurang Gourmet Grön:
 geo:56.1641019,14.86609390000001
END:VEVENT
BEGIN:VTIMEZONE
TZID:Europe/Stockholm
X-LIC-LOCATION:Europe/Stockholm
BEGIN:DAYLIGHT
DTSTART:20160327T030000
TZOFFSETFROM:+0100
TZOFFSETTO:+0200
TZNAME:CEST
END:DAYLIGHT
END:VTIMEZONE
END:VCALENDAR