BEGIN:VCALENDAR
VERSION:2.0
PRODID:-//wp-events-plugin.com//7.1.7//EN
TZID:Europe/Stockholm
X-WR-TIMEZONE:Europe/Stockholm
BEGIN:VEVENT
UID:5-1327@clubcorvette.se
DTSTART;TZID=Europe/Stockholm:20170706T180000
DTEND;TZID=Europe/Stockholm:20170706T213000
DTSTAMP:20170702T182923Z
URL:https://clubcorvette.se/syd/aktivitet/veckotraff-helsingborg-2/
SUMMARY:Veckoträff Helsingborg
DESCRIPTION:Veckoträff Helsingborg\n\nSamling: Max i Hyllinge\, Vi kör pr
 ecis kl.1830\n\nVi kör en runda på 60 min innan. Guidning bokad till kl
  19.30.\n\nVi ska till plastens hus i Perstorp. De berättar om utveckling
 en av Perstorp av som började med ättika tillverkning. Ska ta ca 45-60 m
 in. (Distrikt Syd bjuder på for syds medlemmer)\n\nTitta här.\n\nSen är
  det kaffe Hemma hos Helena och Morgan för de som vill. Vi bjuder\n\nVec
 koträffsvärd / Frågor.\n Kristina o Robert Lindgren\n076-1873333\nrobe
 rt.l@clubcorvette.se
ATTACH;FMTTYPE=image/jpeg:https://clubcorvette.se/syd/wp-content/uploads/s
 ites/5/2015/01/viking13.jpg
CATEGORIES:Veckoträff
LOCATION:Max Hyllinge\, Vångavägen 6\, Hyllinge\, 265 75\, Sverige
GEO:56.09957370000001;12.85203869999998
X-APPLE-STRUCTURED-LOCATION;VALUE=URI;X-ADDRESS=Vångavägen 6\, Hyllinge\,
  265 75\, Sverige;X-APPLE-RADIUS=100;X-TITLE=Max Hyllinge:geo:56.099573700
 00001,12.85203869999998
END:VEVENT
BEGIN:VTIMEZONE
TZID:Europe/Stockholm
X-LIC-LOCATION:Europe/Stockholm
BEGIN:DAYLIGHT
DTSTART:20170326T030000
TZOFFSETFROM:+0100
TZOFFSETTO:+0200
TZNAME:CEST
END:DAYLIGHT
END:VTIMEZONE
END:VCALENDAR