BEGIN:VCALENDAR
VERSION:2.0
PRODID:-//wp-events-plugin.com//7.1.7//EN
TZID:Europe/Stockholm
X-WR-TIMEZONE:Europe/Stockholm
BEGIN:VEVENT
UID:5-1335@clubcorvette.se
DTSTART;TZID=Europe/Stockholm:20170513T100000
DTEND;TZID=Europe/Stockholm:20170513T170000
DTSTAMP:20170503T172643Z
URL:https://clubcorvette.se/syd/aktivitet/varutflykt-i-syd/
SUMMARY:Vårutflykt i Syd
DESCRIPTION:Vårutflykt i Syd -\n\n \n\nVårutflykten går till Autoseum i
  Simrishamn och Tolånga 17 där vi ska äta.\n\nVi kör på de naturskön
 a vägarna\, vägbeskrivning kommer att ges vid ankomst / registrering i H
 örby.\n\nCCS. bjuder på inträdet på Autoseum + kaffe och en bulle.\n\n
 På Tolånga är det självbetalning på 150 kr. per person. (Mat\, läsk 
 el. lättöl och kaffe/kaka ingår i priset.)\n\nCCS står för resten av 
 beloppet för mat. Ska man ha en annan dryck\, är det till självkostnads
 pris.\n\nBetalning för mat till Tolånga 17\, betalas i Hörby vid ankoms
 t / registrering.\n\nkl.10.00 träffas vi vid Netto i Hörby.\n\nkl.10.30 
 kör vi till Autoseum.\n\nkl.12.15-14.15 Besök på Autoseum.\n\nkl.14.15-
 15.30 kör vi till Tolånga 17\, vid Sjöbo för att äta.\n\nKl. 15.30-17
 .00 äter och njuter vi av sällskapet.\n\nAnmälan till senast Onsdag d. 
 10 Maj -\n\nlars-vibeke@clubcorvette.se\n\nAnmälan skall innehålla –
 \n\nMedlems nr. + namn\n\nHur många personer ni är till Autoseum.\n\nHur
  många personer ni är till maten på Tolånga 17.\n\n(Om du inte äter k
 ött\, kan det serveras vegetariskmat\,  meddela detta när du registrera
 r dig.)\n\nIcke medlemmar i CCS är välkomna\, men måste betala 100%.\n\
 n \n\nDistriktansvarig\n\nLars &amp\; Vibeke Riggelsen\n073-0375578\, 041
 0-33 02 82\nlars-vibeke@clubcorvette.se
ATTACH;FMTTYPE=image/jpeg:https://clubcorvette.se/syd/wp-content/uploads/s
 ites/5/2016/05/03.jpg
CATEGORIES:Vårträff
END:VEVENT
BEGIN:VTIMEZONE
TZID:Europe/Stockholm
X-LIC-LOCATION:Europe/Stockholm
BEGIN:DAYLIGHT
DTSTART:20170326T030000
TZOFFSETFROM:+0100
TZOFFSETTO:+0200
TZNAME:CEST
END:DAYLIGHT
END:VTIMEZONE
END:VCALENDAR