BEGIN:VCALENDAR
VERSION:2.0
PRODID:-//wp-events-plugin.com//7.1.7//EN
TZID:Europe/Stockholm
X-WR-TIMEZONE:Europe/Stockholm
BEGIN:VEVENT
UID:5-866@clubcorvette.se
DTSTART;TZID=Europe/Stockholm:20160602T183000
DTEND;TZID=Europe/Stockholm:20160602T213000
DTSTAMP:20160117T154833Z
URL:https://clubcorvette.se/syd/aktivitet/trelleborg-veckotraff-8/
SUMMARY:Trelleborg Veckoträff
DESCRIPTION:\n  Veckoträffar i Trelleborg\nSamling: Stortorget Nygatan 9\
 n\nTid : Kl. 1830\n\nClubvärld: Lars och Vibeke Riggelsen\n\nFrågor: La
 rs &amp\; Vibeke Riggelsen\n\n073-0375578\, 0410-33 02 82\n\nlars-vibeke@c
 lubcorvette.se\n\n\n\n&nbsp\;
CATEGORIES:Veckoträff
LOCATION:Stortorget\, Nygatan 9\, Trelleborg\, Sverige
GEO:55.3745226;13.159417899999994
X-APPLE-STRUCTURED-LOCATION;VALUE=URI;X-ADDRESS=Nygatan 9\, Trelleborg\, Sv
 erige;X-APPLE-RADIUS=100;X-TITLE=Stortorget:geo:55.3745226,13.159417899999
 994
END:VEVENT
BEGIN:VTIMEZONE
TZID:Europe/Stockholm
X-LIC-LOCATION:Europe/Stockholm
BEGIN:DAYLIGHT
DTSTART:20160327T030000
TZOFFSETFROM:+0100
TZOFFSETTO:+0200
TZNAME:CEST
END:DAYLIGHT
END:VTIMEZONE
END:VCALENDAR