BEGIN:VCALENDAR
VERSION:2.0
PRODID:-//wp-events-plugin.com//7.1.7//EN
TZID:Europe/Stockholm
X-WR-TIMEZONE:Europe/Stockholm
BEGIN:VEVENT
UID:5-53@clubcorvette.se
DTSTART;TZID=Europe/Stockholm:20150730T180000
DTEND;TZID=Europe/Stockholm:20150730T213000
DTSTAMP:20150726T163929Z
URL:https://clubcorvette.se/syd/aktivitet/trelleborg-veckotraff-4/
SUMMARY:Trelleborg Veckoträff
DESCRIPTION:\n  Veckoträffar i Trelleborg\nVeckoträff i Trelleborg torsd
 ag 30.Juli\n\nVi träffas på St.Torget mellan 18 och kl.19 där åker vi 
 en liten runda imot Staffanstorp\,\n\nhvor Brita o Anders har bjudt os på
  korv och fika.\n\nKomihåg Campingstola som vanligt.\n\n&nbsp\;\n\nVi syn
 s\n\nSamling: Stortorget Nygatan 9\n\nTid : 1800- 1850 kl. 1900 kör vi e
 n runda. ca. kl.2000 fikar vi\, som vi har med.\n\nClubvärld: Lars och Vi
 beke Riggelsen\n\nFrågor: Lars &amp\; Vibeke Riggelsen\n\n073-0375578\, 0
 410-33 02 82\n\nlars-vibeke@clubcorvette.se\n\n\n\n&nbsp\;
CATEGORIES:Veckoträff
LOCATION:Stortorget\, Nygatan 9\, Trelleborg\, Sverige
GEO:55.3745226;13.159417899999994
X-APPLE-STRUCTURED-LOCATION;VALUE=URI;X-ADDRESS=Nygatan 9\, Trelleborg\, Sv
 erige;X-APPLE-RADIUS=100;X-TITLE=Stortorget:geo:55.3745226,13.159417899999
 994
END:VEVENT
BEGIN:VTIMEZONE
TZID:Europe/Stockholm
X-LIC-LOCATION:Europe/Stockholm
BEGIN:DAYLIGHT
DTSTART:20150329T030000
TZOFFSETFROM:+0100
TZOFFSETTO:+0200
TZNAME:CEST
END:DAYLIGHT
END:VTIMEZONE
END:VCALENDAR