BEGIN:VCALENDAR
VERSION:2.0
PRODID:-//wp-events-plugin.com//7.1.7//EN
TZID:Europe/Stockholm
X-WR-TIMEZONE:Europe/Stockholm
BEGIN:VEVENT
UID:15-159@clubcorvette.se
DTSTART;TZID=Europe/Stockholm:20150502T080000
DTEND;TZID=Europe/Stockholm:20150502T160000
DTSTAMP:20150307T125036Z
URL:https://clubcorvette.se/racing/aktivitet/malmby/
SUMMARY:Malmby
DESCRIPTION:\n\nRacingsektionen bjuder in till Malmbydagen\n\n Lördagen d
 en 2 maj och 5 sept\nAlla är välkomna om du så är nybörjare\, kör or
 ginalbil\, racebil\, ny bil\, oldiesbil eller bara vill komma och titta.\n
 Vi kommer att köra både Superstage och Dragracing då vi har hela banan 
 till vårt förfogande..\n\n	Dragracing med tidtagningsutrustning där du 
 kan testa din bil på 402 meter med tidkort\n	Superstage där du kan tes
 ta din bil och dig själv under säkra förhållanden.\n	Superstage och dr
 agracing för Oldies ( C1\,C2\,C3 ).\n\nFör dig som inte har testat att k
 öra på bana tidigare så kör vi en utbildning på morgonen och däre
 fter en "prova på" där du kan testa att köra under lite\nlugnare former
 .\n\nDu som inte riktigt vet om du vill\, kom och titta så blir du nog oc
 kså sugen på att prova.\n\nHjälm\, heltäckande kläder och bälte är 
 säkerhetskraven.\n\nKlubben har några hjälmar men om möjligt ta med di
 g din egen\n\nVi kör på handelsbensin eller E85\, metanol\, nitrometan e
 ller lustgas är ej tillåtet\n\nHamburgare och dricka finns att köpa på
  plats\nKlubben bjuder alla tävlanden o medlemmar på kaffe\n\nSamling:\n
 \nDeltagande  Kl 8 På Malmby för besiktning\, förarmöte kl. 9\n\nPubl
 ik           Vi är ingång o kör från ca kl 10 för gemensam 
 cruising se Mälardalens hemsida\n\nKostnad:      900/person vid för
 anmälan för båda tillfällena\n\n650/person vid föranmälan för ett t
 illfälle\n\n800/person vid efteranmälan för ett tillfälle\n\nProva på
       350/person för 2 st testrepor superstage eller dragracing elle
 r en av varje ink ev engångslicens\n\nVi är försäkrade genom SMA i det
 ta evenemang så SMA-licens gäller\n\nOm du ej har SMA-licens så kostar 
 det 150kr/dag för en engångslicens\n\nUtom för prova på där den ingå
 r\n\nBetalning till BG 137-4883   senast 24/4 resp 28/8 sen blir det efte
 ranmälan\n\nSkriv Malmby 2014 och medlemsnr samt namn på betalningen\n\n
 Exempel\n\nMed licens\n\nMalmby 2/5 o 5/9   Arne Nilsson medlem 1234  
  900kr\n\nUtan licens\n\n	Malmby 3/5 Nisse Nilsson medlem 1235    350kr
        prova på \n	Malmby 3/5 Arne Nilsson medlem 1236     800kr
  ( 650+150) \n\nAnmälan/Frågor:      Via mail\, sms eller samtal til
 l Jerka eller Kenta\n\n                     Betalninge
 n måste vara på kontot 25/4 resp1/9\n\nJerka              
   Erik Vinell 070-514 38 98       erik.vinell@clubcorvette.se\n\nKen
 ta                Kent Gustavsson 070-218 44 19 kenta@clubco
 rvette.se
CATEGORIES:Racing
LOCATION:Malmby Fairground\, 59.32356\, 17.09687\, Strängnäs\, Sverige
GEO:60.228294;16.789949
X-APPLE-STRUCTURED-LOCATION;VALUE=URI;X-ADDRESS=59.32356\, 17.09687\, Strä
 ngnäs\, Sverige;X-APPLE-RADIUS=100;X-TITLE=Malmby Fairground:geo:60.22829
 4,16.789949
END:VEVENT
BEGIN:VTIMEZONE
TZID:Europe/Stockholm
X-LIC-LOCATION:Europe/Stockholm
BEGIN:DAYLIGHT
DTSTART:20150329T030000
TZOFFSETFROM:+0100
TZOFFSETTO:+0200
TZNAME:CEST
END:DAYLIGHT
END:VTIMEZONE
END:VCALENDAR