BEGIN:VCALENDAR
VERSION:2.0
PRODID:-//wp-events-plugin.com//7.1.7//EN
TZID:Europe/Stockholm
X-WR-TIMEZONE:Europe/Stockholm
BEGIN:VEVENT
UID:15-935@clubcorvette.se
DTSTART;TZID=Europe/Stockholm:20160521T090000
DTEND;TZID=Europe/Stockholm:20160521T170000
DTSTAMP:20160307T092029Z
URL:https://clubcorvette.se/racing/aktivitet/malmby-3/
SUMMARY:Malmby
DESCRIPTION:Hej!\n\nNu kan du läsa om årets Malmbydag\, vad det kostar oc
 h hur du gör för att anmäla dig.\n\nRacingsektionen bjuder in till Malm
 bydagen 2016\n\nVarmt välkommen!
CATEGORIES:Racing
LOCATION:Malmby Fairground\, 59.32356\, 17.09687\, Strängnäs\, Sverige
GEO:60.228294;16.789949
X-APPLE-STRUCTURED-LOCATION;VALUE=URI;X-ADDRESS=59.32356\, 17.09687\, Strä
 ngnäs\, Sverige;X-APPLE-RADIUS=100;X-TITLE=Malmby Fairground:geo:60.22829
 4,16.789949
END:VEVENT
BEGIN:VTIMEZONE
TZID:Europe/Stockholm
X-LIC-LOCATION:Europe/Stockholm
BEGIN:DAYLIGHT
DTSTART:20160327T030000
TZOFFSETFROM:+0100
TZOFFSETTO:+0200
TZNAME:CEST
END:DAYLIGHT
END:VTIMEZONE
END:VCALENDAR