BEGIN:VCALENDAR
VERSION:2.0
PRODID:-//wp-events-plugin.com//7.1.7//EN
TZID:Europe/Stockholm
X-WR-TIMEZONE:Europe/Stockholm
BEGIN:VEVENT
UID:15-1498@clubcorvette.se
DTSTART;TZID=Europe/Stockholm:20170826T090000
DTEND;TZID=Europe/Stockholm:20170826T170000
DTSTAMP:20170730T111504Z
URL:https://clubcorvette.se/racing/aktivitet/bjorkvik-ring-2/
SUMMARY:Björkvik Ring
DESCRIPTION:[caption id="attachment_1198" align="alignnone" width="600"] Sa
 marbetspartner[/caption]\n\nEtt samarrangemang mellan distrikt Mälardalen
 \, Öst och Racingsektionen.\nDet här är vad alla Corvetteägare borde p
 röva. En bilträff med temat att lära känna sin bil under ordnade forme
 r. Vi startar med en teoretisk genomgång. Därefter får du möjlighet at
 t prova din bil under ledning av instruktörer.\nCallisma är på plats me
 d Corvette och Cadillac för provkörning.\nLunch och kaffe serveras på B
 jörkvik.\nVill du inte delta i körningen utan bara komma och träffa Cor
 vettekompisar och äta lunch så går det lika bra.\nALLA klubbmedlemmar 
 är välkomna pröva sin bil. Det spelar ingen roll om du är nybörjare\,
  erfaren banåkare\, kör gammal eller ny\, original eller modifierad\, el
 ler bara vill umgås\, fika\, titta och prata. Under dagen ska alla få m
 öjlighet att köra efter egen nivå och framförallt få en underhålland
 e dag tillsammans!\n\nSäkerhetskrav:\nHjälm\, heltäckande kläder av bo
 mull\, handskar och säkerhetsbälte. Vi kör på handelsbensin eller E85.
 \n\nHitta hit:  Med GPS knappar du in Björkvik Ring (Katrineholm). Björk
 vik Ring ligger söder om Nyköping. Ta avfarten väg 215 mot Björkvik so
 m ligger på E4 cirka 13 km söder om Nyköping. Åk sedan ungefär 7 km t
 ills du ser skylten. (GPS Koordinater N 58° 47′ 40.45″\, E 16° 33′
  7.42″)\n\nTid:           Samling Björkvik Ring  kl. 09.00\n\nKostnad: 
  150 kr per person inkl. lunch och kaffe + 200:- för SMA-licens (om du in
 te redan har en)\n\nAnmälan: Sista anmälningsdag 20 augusti. Gäller var
 e sig du ska köra eller ej. Peter Gustafsson\, pg@clubcorvette.se\, 070-8
 77 32 60\,\n\nLars Borgström\, lars.b@clubcorvette.se\, 076-806 90 47\n\n
 Betalning: Senast 20 augusti till klubbens Bankgiro: 137-4883. Märk betal
 ning: Björkvik 26/8 Ditt namn Medlems-nr.\n\nFrågor:     Till ovan.\n
CATEGORIES:Racing
LOCATION:Björkvikring\, Björkvik flygfält\, Björkvik\, Södermanlands l
 än\, 640 20\, Sverige
GEO:58.79347439999999;16.562511900000004
X-APPLE-STRUCTURED-LOCATION;VALUE=URI;X-ADDRESS=Björkvik flygfält\, Björ
 kvik\, Södermanlands län\, 640 20\, Sverige;X-APPLE-RADIUS=100;X-TITLE=B
 jörkvikring:geo:58.79347439999999,16.562511900000004
END:VEVENT
BEGIN:VTIMEZONE
TZID:Europe/Stockholm
X-LIC-LOCATION:Europe/Stockholm
BEGIN:DAYLIGHT
DTSTART:20170326T030000
TZOFFSETFROM:+0100
TZOFFSETTO:+0200
TZNAME:CEST
END:DAYLIGHT
END:VTIMEZONE
END:VCALENDAR