BEGIN:VCALENDAR
VERSION:2.0
PRODID:-//wp-events-plugin.com//7.1.7//EN
TZID:Europe/Stockholm
X-WR-TIMEZONE:Europe/Stockholm
BEGIN:VEVENT
UID:9-4398@clubcorvette.se
DTSTART;TZID=Europe/Stockholm:20260510T100000
DTEND;TZID=Europe/Stockholm:20260510T140000
DTSTAMP:20260323T091619Z
URL:https://clubcorvette.se/ost/aktivitet/varmonstring-6/
SUMMARY:Vårmönstring
DESCRIPTION:Nu är det dags! Vi planerar för en dag med strålande sol\, k
 vittrande fåglar och blänkande Corvetter när det är dags för årets f
 örsta samling i Öst! Kom\, träffa både nya och gamla vänner och titta
  på de fina bilarna. Ett extra välkommen till dig som inte varit med fö
 rut!\n\nVi träffas på Hotell Malmköping i - just det! - Malmköping och
  ställer upp våra bilar på deras parkering. Samling från 10.30. Där k
 an vi sedan mingla\, uppdatera varandra på nya bilar och vad som kan ha h
 änt i garagen under vintern - och vanligtvis en hel del andra saker ocks
 å.\n\nKlockan 12.30 bjuds det lunch\, kostnad 100 kr per person som betal
 as (helst med Swish) på plats. Menyn är inte fastställd än\, men det b
 lir köttbaserat och samma rätt till alla. Sallad\, vatten och kaffe på 
 maten ingår. Ev kostrestriktioner anges i samband med anmälan.\n\nNär d
 u känner dig mätt och förhoppningsvis nöjd med att säsongen är igån
 g så avrundar du träffen med hemfärd.\n\nSista anmälningsdag styrs av 
 restaurangens beställningstider och är därför 26 april. Anmälan är b
 indande efter detta datum\, dvs får du förhinder behöver du ändå beta
 la för maten. Anmälan sker som vanligt genom fliken "Anmälan"\, du mås
 te vara inloggad för att kunna anmäla dig.\n\nVill du bara glida förbi 
 och parkera en stund krävs ingen anmälan.\n\n&nbsp\;
ATTACH;FMTTYPE=image/jpeg:https://clubcorvette.se/ost/wp-content/uploads/s
 ites/9/2025/05/20250503_112602.jpg
CATEGORIES:Vårträff
LOCATION:Hotell Malmköping\, Furugatan\, Malmköping\, Sverige
GEO:59.138033;16.722312
X-APPLE-STRUCTURED-LOCATION;VALUE=URI;X-ADDRESS=Furugatan\, Malmköping\, S
 verige;X-APPLE-RADIUS=100;X-TITLE=Hotell Malmköping:geo:59.138033,16.7223
 12
END:VEVENT
BEGIN:VTIMEZONE
TZID:Europe/Stockholm
X-LIC-LOCATION:Europe/Stockholm
BEGIN:DAYLIGHT
DTSTART:20260329T030000
TZOFFSETFROM:+0100
TZOFFSETTO:+0200
TZNAME:CEST
END:DAYLIGHT
END:VTIMEZONE
END:VCALENDAR