BEGIN:VCALENDAR
VERSION:2.0
PRODID:-//wp-events-plugin.com//7.1.7//EN
TZID:Europe/Stockholm
X-WR-TIMEZONE:Europe/Stockholm
BEGIN:VEVENT
UID:9-4403@clubcorvette.se
DTSTART;TZID=Europe/Stockholm:20260815T090000
DTEND;TZID=Europe/Stockholm:20260815T160000
DTSTAMP:20260216T105653Z
URL:https://clubcorvette.se/ost/aktivitet/tur-i-sodra-distriktet/
SUMMARY:Tur i södra distriktet
DESCRIPTION:Håll utkik efter mer information och anmälan!
ATTACH;FMTTYPE=image/jpeg:https://clubcorvette.se/ost/wp-content/uploads/s
 ites/9/2025/05/20250524_112031.jpg
END:VEVENT
BEGIN:VTIMEZONE
TZID:Europe/Stockholm
X-LIC-LOCATION:Europe/Stockholm
BEGIN:DAYLIGHT
DTSTART:20260329T030000
TZOFFSETFROM:+0100
TZOFFSETTO:+0200
TZNAME:CEST
END:DAYLIGHT
END:VTIMEZONE
END:VCALENDAR