BEGIN:VCALENDAR
VERSION:2.0
PRODID:-//wp-events-plugin.com//7.1.7//EN
TZID:Europe/Stockholm
X-WR-TIMEZONE:Europe/Stockholm
BEGIN:VEVENT
UID:9-4402@clubcorvette.se
DTSTART;TZID=Europe/Stockholm:20260711T100000
DTEND;TZID=Europe/Stockholm:20260711T160000
DTSTAMP:20260216T105408Z
URL:https://clubcorvette.se/ost/aktivitet/sommar-i-sormland-2026/
SUMMARY:Sommar i Sörmland 2026
DESCRIPTION:En härlig tur med god mat och ev lite minigolf för den som s
 å önskar utlovas! Håll utkik efter mer information och anmälan.
ATTACH;FMTTYPE=image/jpeg:https://clubcorvette.se/ost/wp-content/uploads/s
 ites/9/2025/09/20250830_150448.jpg
END:VEVENT
BEGIN:VTIMEZONE
TZID:Europe/Stockholm
X-LIC-LOCATION:Europe/Stockholm
BEGIN:DAYLIGHT
DTSTART:20260329T030000
TZOFFSETFROM:+0100
TZOFFSETTO:+0200
TZNAME:CEST
END:DAYLIGHT
END:VTIMEZONE
END:VCALENDAR