BEGIN:VCALENDAR
VERSION:2.0
PRODID:-//wp-events-plugin.com//7.1.7//EN
TZID:Europe/Stockholm
X-WR-TIMEZONE:Europe/Stockholm
BEGIN:VEVENT
UID:9-4404@clubcorvette.se
DTSTART;TZID=Europe/Stockholm:20260829T100000
DTEND;TZID=Europe/Stockholm:20260829T150000
DTSTAMP:20260216T110345Z
URL:https://clubcorvette.se/ost/aktivitet/sensommartraff/
SUMMARY:Sensommarträff
DESCRIPTION:Mer information och anmälan kommer. Håll utkik!
ATTACH;FMTTYPE=image/jpeg:https://clubcorvette.se/ost/wp-content/uploads/s
 ites/9/2025/09/20250830_105155.jpg
END:VEVENT
BEGIN:VTIMEZONE
TZID:Europe/Stockholm
X-LIC-LOCATION:Europe/Stockholm
BEGIN:DAYLIGHT
DTSTART:20260329T030000
TZOFFSETFROM:+0100
TZOFFSETTO:+0200
TZNAME:CEST
END:DAYLIGHT
END:VTIMEZONE
END:VCALENDAR