BEGIN:VCALENDAR
VERSION:2.0
PRODID:-//wp-events-plugin.com//7.1.7//EN
TZID:Europe/Stockholm
X-WR-TIMEZONE:Europe/Stockholm
BEGIN:VEVENT
UID:9-4401@clubcorvette.se
DTSTART;TZID=Europe/Stockholm:20260701T150000
DTEND;TZID=Europe/Stockholm:20260701T200000
DTSTAMP:20260216T105000Z
URL:https://clubcorvette.se/ost/aktivitet/nostalgiafton-i-vadstena/
SUMMARY:Nostalgiafton i Vadstena
DESCRIPTION:Varje onsdag hela sommaren är det Nostalgiafton i Vadstena vid
  vallgraven till Vadstena slott och vi är alla välkomna. Men just denna 
 dag blir det Corvette-tema! Vi ser gärna många bilar i de äldre årsmod
 ellerna på plats denna Oldiesträff men även du som har nyare bil är s
 å klart välkommen. En särskild Corvetteparkering har utlovats.\n\nDet k
 ommer också att bjudas på livemusik under kvällen.\n\nHåll utkik efter
  mer information och anmälan!\n\n&nbsp\;
ATTACH;FMTTYPE=image/jpeg:https://clubcorvette.se/ost/wp-content/uploads/s
 ites/9/2024/04/20240427_151827_2.jpg
CATEGORIES:Ej i CCS Regi
END:VEVENT
BEGIN:VTIMEZONE
TZID:Europe/Stockholm
X-LIC-LOCATION:Europe/Stockholm
BEGIN:DAYLIGHT
DTSTART:20260329T030000
TZOFFSETFROM:+0100
TZOFFSETTO:+0200
TZNAME:CEST
END:DAYLIGHT
END:VTIMEZONE
END:VCALENDAR