BEGIN:VCALENDAR
VERSION:2.0
PRODID:-//wp-events-plugin.com//7.1.7//EN
TZID:Europe/Stockholm
X-WR-TIMEZONE:Europe/Stockholm
BEGIN:VEVENT
UID:9-4407@clubcorvette.se
DTSTART;TZID=Europe/Stockholm:20260828T100000
DTEND;TZID=Europe/Stockholm:20260830T150000
DTSTAMP:20260216T111821Z
URL:https://clubcorvette.se/ost/aktivitet/mantorp-classic-days/
SUMMARY:Mantorp Classic Days
DESCRIPTION:För den som gillar sportbilar kan vi föreslå en sväng förb
 i Mantorp någon av dessa dagar\, där RHK:s fjärde deltävling körs i 
 år. Ett arrangemang de har tillsammans med SPVM.\n\nKlubben har ingen ege
 n medverkan denna dag\, men vi vill ändå tipsa om möjligheten.
CATEGORIES:Ej i CCS Regi
LOCATION:Mantorp Park\, Mantorp Park\, Mantorp\, Sverige
GEO:58.346348;15.292200800000046
X-APPLE-STRUCTURED-LOCATION;VALUE=URI;X-ADDRESS=Mantorp Park\, Mantorp\, Sv
 erige;X-APPLE-RADIUS=100;X-TITLE=Mantorp Park:geo:58.346348,15.29220080000
 0046
END:VEVENT
BEGIN:VTIMEZONE
TZID:Europe/Stockholm
X-LIC-LOCATION:Europe/Stockholm
BEGIN:DAYLIGHT
DTSTART:20260329T030000
TZOFFSETFROM:+0100
TZOFFSETTO:+0200
TZNAME:CEST
END:DAYLIGHT
END:VTIMEZONE
END:VCALENDAR