BEGIN:VCALENDAR
VERSION:2.0
PRODID:-//wp-events-plugin.com//7.1.7//EN
TZID:Europe/Stockholm
X-WR-TIMEZONE:Europe/Stockholm
BEGIN:VEVENT
UID:9-4408@clubcorvette.se
DTSTART;TZID=Europe/Stockholm;VALUE=DATE:20260807
DTEND;TZID=Europe/Stockholm;VALUE=DATE:20260809
DTSTAMP:20260216T112450Z
URL:https://clubcorvette.se/ost/aktivitet/klubbmasterskap-pa-mantorp-park/
SUMMARY:Klubbmästerskap på Mantorp Park
DESCRIPTION:För mer information och anmälan\, se Racingsektionens kalende
 r: https://clubcorvette.se/racing/aktivitet/km-bankorning-mantorp-park-7-8
 -augusti/
ATTACH;FMTTYPE=image/jpeg:https://clubcorvette.se/ost/wp-content/uploads/s
 ites/9/2025/09/20250830_132145.jpg
LOCATION:Mantorp Park\, Mantorp Park\, Mantorp\, Sverige
GEO:58.346348;15.292200800000046
X-APPLE-STRUCTURED-LOCATION;VALUE=URI;X-ADDRESS=Mantorp Park\, Mantorp\, Sv
 erige;X-APPLE-RADIUS=100;X-TITLE=Mantorp Park:geo:58.346348,15.29220080000
 0046
END:VEVENT
BEGIN:VTIMEZONE
TZID:Europe/Stockholm
X-LIC-LOCATION:Europe/Stockholm
BEGIN:DAYLIGHT
DTSTART:20260329T030000
TZOFFSETFROM:+0100
TZOFFSETTO:+0200
TZNAME:CEST
END:DAYLIGHT
END:VTIMEZONE
END:VCALENDAR