BEGIN:VCALENDAR
VERSION:2.0
PRODID:-//wp-events-plugin.com//7.1.7//EN
TZID:Europe/Stockholm
X-WR-TIMEZONE:Europe/Stockholm
BEGIN:VEVENT
UID:9-4405@clubcorvette.se
DTSTART;TZID=Europe/Stockholm;VALUE=DATE:20260911
DTEND;TZID=Europe/Stockholm;VALUE=DATE:20260914
DTSTAMP:20260216T110614Z
URL:https://clubcorvette.se/ost/aktivitet/hostresa-2/
SUMMARY:Höstresa
DESCRIPTION:För de som redan nu vill hålla av datumen. Mer information om
  destination\, kostnader och anmälan kommer.
ATTACH;FMTTYPE=image/jpeg:https://clubcorvette.se/ost/wp-content/uploads/s
 ites/9/2024/07/20240727_150325.jpg
END:VEVENT
BEGIN:VTIMEZONE
TZID:Europe/Stockholm
X-LIC-LOCATION:Europe/Stockholm
BEGIN:DAYLIGHT
DTSTART:20260329T030000
TZOFFSETFROM:+0100
TZOFFSETTO:+0200
TZNAME:CEST
END:DAYLIGHT
END:VTIMEZONE
END:VCALENDAR