BEGIN:VCALENDAR
VERSION:2.0
PRODID:-//wp-events-plugin.com//7.1.7//EN
TZID:Europe/Stockholm
X-WR-TIMEZONE:Europe/Stockholm
BEGIN:VEVENT
UID:9-4406@clubcorvette.se
DTSTART;TZID=Europe/Stockholm:20260702T160000
DTEND;TZID=Europe/Stockholm:20260702T200000
DTSTAMP:20260216T111414Z
URL:https://clubcorvette.se/ost/aktivitet/corvette-tema-usa-bilar-pa-flygv
 apenmuseet/
SUMMARY:Corvette-tema (USA-bilar) på Flygvapenmuseet
DESCRIPTION:Välkommen att visa upp din Corvette tillsammans med alla andra
  fina amerikanska bilar utanför Flygvapenmuseet. Även denna sommar komme
 r de har träffar på torsdagar\, men just denna dag vill du inte missa!\n
 \n&nbsp\;
ATTACH;FMTTYPE=image/jpeg:https://clubcorvette.se/ost/wp-content/uploads/s
 ites/9/2026/02/20250703_173236.jpg
CATEGORIES:Ej i CCS Regi
LOCATION:Flygvapenmuseumet\, Carl Cederströms gata 2\, Malmslätt\, Sverig
 e
GEO:58.40997669999999;15.524527199999966
X-APPLE-STRUCTURED-LOCATION;VALUE=URI;X-ADDRESS=Carl Cederströms gata 2\, 
 Malmslätt\, Sverige;X-APPLE-RADIUS=100;X-TITLE=Flygvapenmuseumet:geo:58.4
 0997669999999,15.524527199999966
END:VEVENT
BEGIN:VTIMEZONE
TZID:Europe/Stockholm
X-LIC-LOCATION:Europe/Stockholm
BEGIN:DAYLIGHT
DTSTART:20260329T030000
TZOFFSETFROM:+0100
TZOFFSETTO:+0200
TZNAME:CEST
END:DAYLIGHT
END:VTIMEZONE
END:VCALENDAR