BEGIN:VCALENDAR
VERSION:2.0
PRODID:-//wp-events-plugin.com//7.1.7//EN
TZID:Europe/Stockholm
X-WR-TIMEZONE:Europe/Stockholm
BEGIN:VEVENT
UID:14-2254@clubcorvette.se
DTSTART;TZID=Europe/Stockholm:20190511T090000
DTEND;TZID=Europe/Stockholm:20190511T150000
DTSTAMP:20190227T192225Z
URL:https://clubcorvette.se/oldies/aktivitet/oldies-vast-oldies-but-goldie
 s-lordag-11-maj/
SUMMARY:Oldies Väst - Oldies but Goldies - lördag 11 maj
DESCRIPTION:En dag speciellt för Corvette 1953-1989. \n\nSamling vid Stora
  Teatern mitt i centrala Göteborg. Här minglar vi en stund innan vi crui
 sar genom Göteborg till Borås på för att delta i den årliga bilträff
 en vid Almenäs. Här arrangerar SHRA Borås årligen en vårmönstring\, 
 som lockar hundratals bilar och motorcyklar av vitt varierande ursprung oc
 h ålder\, men med fokus på äldre amerikanskt. Här finns även Almenäs
  Café för den som föredrar det framför picknickkorgen. För den som vi
 ll äter vi gemensam lunch på någon av Borås restauranger på vägen he
 måt.\n\nEtt Oldies arrangemang som välkomnar alla klubbmedlemmar oavsett
  favoritmodell.\n\nSamling:  Kl. 09.00 Stora Teatern\, Göteborg-\nKostna
 d:  Entréavgift ur egen ficka.\nAnmälan: Senast 8 maj på klubbens hem
 sida under fliken "Anmälan".\nFrågor:     Till erik.jerkersson@clubc
 orvette.se\n\n\n\n&nbsp\;
ATTACH;FMTTYPE=image/jpeg:https://clubcorvette.se/oldies/wp-content/upload
 s/sites/14/2016/08/DSC00560.jpg
CATEGORIES:Oldies
LOCATION:Samling vid Stora Teatern\, Kungsparken 1\, göteborg\, 411 36\, S
 verige
GEO:57.70271089999999;11.971043799999961
X-APPLE-STRUCTURED-LOCATION;VALUE=URI;X-ADDRESS=Kungsparken 1\, göteborg\,
  411 36\, Sverige;X-APPLE-RADIUS=100;X-TITLE=Samling vid Stora Teatern:geo
 :57.70271089999999,11.971043799999961
END:VEVENT
BEGIN:VTIMEZONE
TZID:Europe/Stockholm
X-LIC-LOCATION:Europe/Stockholm
BEGIN:DAYLIGHT
DTSTART:20190331T030000
TZOFFSETFROM:+0100
TZOFFSETTO:+0200
TZNAME:CEST
END:DAYLIGHT
END:VTIMEZONE
END:VCALENDAR