BEGIN:VCALENDAR
VERSION:2.0
PRODID:-//wp-events-plugin.com//7.1.7//EN
TZID:Europe/Stockholm
X-WR-TIMEZONE:Europe/Stockholm
BEGIN:VEVENT
UID:11-1009@clubcorvette.se
DTSTART;TZID=Europe/Stockholm;VALUE=DATE:20160604
DTEND;TZID=Europe/Stockholm;VALUE=DATE:20160605
DTSTAMP:20160602T145205Z
URL:https://clubcorvette.se/malardalen/aktivitet/lunch-forarutbildning-bjo
 rkvik-2016/
SUMMARY:Kul på hjul\, Björkvik Ring – lördag 4 juni
DESCRIPTION:Ett samarrangemang mellan distrikt Mälardalen\, Öst och Racin
 gsektionen.\nDet här är vad alla Corvetteägare borde pröva. En bilträ
 ff med temat att lära känna sin bil under ordnade former. Vi startar med
  en teoretisk genomgång. Därefter får du möjlighet att prova din bil u
 nder ledning av instruktörer.\nCallisma är på plats med Corvette och Ca
 dillac för provkörning.\nLunch och kaffe serveras på Björkvik.\nVill d
 u inte delta i körningen utan bara komma och träffa Corvettekompisar och
  äta lunch så går det lika bra.\nALLA klubbmedlemmar är välkomna prö
 va sin bil. Det spelar ingen roll om du är nybörjare\, erfaren banåkare
 \, kör gammal eller ny\, original eller modifierad\, eller bara vill umg
 ås\, fika\, titta och prata. Under dagen ska alla få möjlighet att kör
 a efter egen nivå och framförallt få en underhållande dag tillsammans!
 \n\nSäkerhetskrav:\nHjälm\, heltäckande kläder av bomull\, handskar oc
 h säkerhetsbälte. Vi kör på handelsbensin eller E85.\n\nFör fler deta
 ljer\, se inbjudan på distrikt Mälardalen\, Öst eller Racingsektionens 
 sida.\n\nHitta hit:  Med GPS knappar du in Björkvik Ring (Katrineholm). 
 Björkvik Ring ligger söder om Nyköping. Ta avfarten väg 215 mot Björk
 vik som ligger på E4 cirka 13 km söder om Nyköping. Åk sedan ungefär 
 7 km tills du ser skylten. (GPS Koordinater N 58° 47' 40.45"\, E 16° 33'
  7.42")\n\nTid:           Samling Björkvik Ring  kl. 09.00\n\n
 Kostnad:  150 kr per person inkl. lunch och kaffe\n\nAnmälan: Sista anm
 älningsdag 20 maj. Gäller vare sig du ska köra eller ej. Jerka\, erik.v
 inell@clubcorvette.se\, 070-514 3898\,\n\nLars Borgström\, lars.b@clubcor
 vette.se\, 076-806 90 47\n\nBetalning: Senast 20 maj till klubbens Bankgir
 o: 137-4883. Märk betalning: Björkvik 4/6 Ditt namn Medlems-nr.\n\nFråg
 or:     Till ovan.
ATTACH;FMTTYPE=image/jpeg:https://clubcorvette.se/malardalen/wp-content/up
 loads/sites/11/2016/02/förarutbildning.jpg
CATEGORIES:Vårträff,Veckoträff
END:VEVENT
BEGIN:VTIMEZONE
TZID:Europe/Stockholm
X-LIC-LOCATION:Europe/Stockholm
BEGIN:DAYLIGHT
DTSTART:20160327T030000
TZOFFSETFROM:+0100
TZOFFSETTO:+0200
TZNAME:CEST
END:DAYLIGHT
END:VTIMEZONE
END:VCALENDAR