BEGIN:VCALENDAR
VERSION:2.0
PRODID:-//wp-events-plugin.com//7.1.7//EN
TZID:Europe/Stockholm
X-WR-TIMEZONE:Europe/Stockholm
BEGIN:VEVENT
UID:10-1239@clubcorvette.se
DTSTART;TZID=Europe/Stockholm:20170706T090000
DTEND;TZID=Europe/Stockholm:20170708T150000
DTSTAMP:20170703T170720Z
URL:https://clubcorvette.se/greatlakedistrict/aktivitet/poweer-meet-i-lidk
 oping-6-7-8-juli-2017/
SUMMARY:Poweer Meet i Lidköping 6-7-8 juli 2017
DESCRIPTION:Big Power Meet 6-8 Juli\n\nHovby flygfält Lidköping\n\nVälko
 mna till Hovby flygfällt för att besöka det 40:nde Power Meet\n\nCorvet
 tecluben har egen parkeringsyta dit ni är välkomna med era bilar\, där 
 cluben även har sina tält uppsatta.\n\nÖppettider: Torsdag 6/7 Kl. 11.0
 0 – 18.00\n\nFredag   7/7 Kl. 08.00 -  18.00\n\nLördag   8/7 Kl. 0
 8.00 -  18.00\n\nVIKTIGT: Utfart dagtid från Hovby är en liten väg i b
 ortre ändan på fältet som mynnar ut på väg 2610.\n\nEtt stort vit/ora
 ngemålat torn markerar utfart.\n\nEfter träffens slut 6-8 Juli blir äve
 n infarterna utfarter.\n\nFörsök INTE köra ut via infarterna till Big M
 eet under träfftiderna\n\n&nbsp\;\n\n&nbsp\;
LOCATION:Hovby flygplats\, Hovby\, Lidköping\, Sverige
GEO:58.45080659999999;13.122754100000065
X-APPLE-STRUCTURED-LOCATION;VALUE=URI;X-ADDRESS=Hovby\, Lidköping\, Sverig
 e;X-APPLE-RADIUS=100;X-TITLE=Hovby flygplats:geo:58.45080659999999,13.1227
 54100000065
END:VEVENT
BEGIN:VTIMEZONE
TZID:Europe/Stockholm
X-LIC-LOCATION:Europe/Stockholm
BEGIN:DAYLIGHT
DTSTART:20170326T030000
TZOFFSETFROM:+0100
TZOFFSETTO:+0200
TZNAME:CEST
END:DAYLIGHT
END:VTIMEZONE
END:VCALENDAR