BEGIN:VCALENDAR
VERSION:2.0
PRODID:-//wp-events-plugin.com//7.1.7//EN
TZID:Europe/Stockholm
X-WR-TIMEZONE:Europe/Stockholm
BEGIN:VEVENT
UID:10-2108@clubcorvette.se
DTSTART;TZID=Europe/Stockholm;VALUE=DATE:20190718
DTEND;TZID=Europe/Stockholm;VALUE=DATE:20190722
DTSTAMP:20190228T174240Z
URL:https://clubcorvette.se/greatlakedistrict/aktivitet/minisemester-18-21
 -juli-i-dalarna/
SUMMARY:Minisemester 18-21 juli i Dalarna "SE INBJUDAN "
DESCRIPTION:\n\nVälkomna att anmäla er till årets minisemester 18–21 j
 uli.\n\nSamling vid Tyota i Mariestad kl. 9.30\n\nSommarens minisemester t
 ar oss till vackra Dalarna och trakterna runt Siljan. Vägen dit går öve
 r Grythyttan där vi tittar in till Carl-Jan och äter lunch för att sen 
 ta oss upp till boendet som är Moskogens Hotell &amp\; konferens som ligg
 er i Leksand.\n\nDär bor vi i 2-bädds campingstugor men vi har även nå
 gra enkelrum bokade. Se gärna deras hemsida www.moskogen.com\n\nSedan vä
 ntar ett par dagar med besök i trakterna runt Siljan med besök i Falu ko
 ppargruva\, Zornmuseet m.m. Ett mer exakt program kommer vid tid för avre
 sa.\n\nPris för två bädds stuga 3 930 Kr Pris för enkelrum 2 790 Kr\n\
 nI det ingår:\n\n 	3 övernattningar\n 	Frukostbuffé\n 	Linne o handduka
 r\n 	Slutstädning\n\nKostnader för middagar\, luncher\, dryck och entré
 er tillkommer.\n\nOBS! Anmälan på hemsidan eller telefonanmälan och fr
 ågor ring Anders 070–3178026.\n\nSista anmälan 30 april\, anmälan är
  bindande och det är begränsat med platser så det är först till kvarn
  som gäller!\n\nAnmälda per telefon\n\n&nbsp\;\n\nRikard o Monika Lund 
                                       
 2\n\nPeter Jonsson / Katarina Stridh                   
    2\n\nAnders Karlsson / Anki Brandels                
     2\n\nChrister o Margaretha Doverfors               
      2\n\nSven o Eva Dölerud                    
                        2\n\nPär o Merri Sundberg 
                                      
  2\n\nKrister o Marianne Haglund                     
       2\n\nJeannette Källqvist / Mikael Pettersson      2\n\nLa
 rs o Ulla Andersson                           
           2\n\nTomas Jonsson                  
                                1\n\nYvonne R
 ydell                                  
                  1\n\nLeif o Ilona Carpman       
                                2\n\nJan o Li
 sbeth Kristofferson                          2\n\
 n&nbsp\;\n\n&nbsp\;
END:VEVENT
BEGIN:VTIMEZONE
TZID:Europe/Stockholm
X-LIC-LOCATION:Europe/Stockholm
BEGIN:DAYLIGHT
DTSTART:20190331T030000
TZOFFSETFROM:+0100
TZOFFSETTO:+0200
TZNAME:CEST
END:DAYLIGHT
END:VTIMEZONE
END:VCALENDAR