BEGIN:VCALENDAR
VERSION:2.0
PRODID:-//wp-events-plugin.com//7.1.7//EN
TZID:Europe/Stockholm
X-WR-TIMEZONE:Europe/Stockholm
BEGIN:VEVENT
UID:10-1219@clubcorvette.se
DTSTART;TZID=Europe/Stockholm:20170606T100000
DTEND;TZID=Europe/Stockholm:20170606T160000
DTSTAMP:20170511T170024Z
URL:https://clubcorvette.se/greatlakedistrict/aktivitet/gld-25-ars-jubileu
 m/
SUMMARY:GLDs 20 års jubileum och Nationaldagsfirande ihop med Skaraborg - 
 Närke och Värmland 6 juni "SE INBJUDAN"
DESCRIPTION:GLDs 20 års jubileum och Nationaldagsfirande ihop med Skarabor
 g - Närke och Värmland 6 juni\nVälkommen till GLD:s 20-års jubileum.\n
  Gemensam träff på parkering Biltema i Karlskoga kl 12.00\nVi kommer de
 n här dagen besöka Loka Brunn i Bergslagen.På programmet står en guidn
 ing och några andra aktiviteter............... Vi kommer äta en gemensam
  lunchbuffé till en kostnad av 145 kr och därefter blir det lite aktivit
 eter innan avfärd hemåt.\n\nSamling:\nNärke: 11.00 IKEA\nVärmland: 11.
 00 V8-shoppen\nSkaraborg: Toyota i Mariestad 10.00\n\nBindande anmälan se
 nast 28 maj till Berit och Bengt . tel 0506-40234 hemtelefon  sker efter 
 kl 18. Är inte hemma före dess.  /070-0577560\n berith_1@spray.se
CATEGORIES:Sommarträff
END:VEVENT
BEGIN:VTIMEZONE
TZID:Europe/Stockholm
X-LIC-LOCATION:Europe/Stockholm
BEGIN:DAYLIGHT
DTSTART:20170326T030000
TZOFFSETFROM:+0100
TZOFFSETTO:+0200
TZNAME:CEST
END:DAYLIGHT
END:VTIMEZONE
END:VCALENDAR