BEGIN:VCALENDAR
VERSION:2.0
PRODID:-//wp-events-plugin.com//7.1.7//EN
TZID:Europe/Stockholm
X-WR-TIMEZONE:Europe/Stockholm
BEGIN:VEVENT
UID:10-1227@clubcorvette.se
DTSTART;TZID=Europe/Stockholm:20170729T093000
DTEND;TZID=Europe/Stockholm:20170729T153000
DTSTAMP:20170724T155225Z
URL:https://clubcorvette.se/greatlakedistrict/aktivitet/flygplatsen-i-falk
 oping-29-juli-2017/
SUMMARY:Flygplatsen i Falköping 29 juli 2017 " SE INBJUDAN " Uppdaterad
DESCRIPTION:&nbsp\;\n\nVälkomna till Falköping och årets bilutställning
  på flygfältet*Lördag 29\nJuli*\n\nVi hälsar särskilt välkomna distr
 ikt Väst som kommer på besök\n\nEftersom vi inte får anordna någon cl
 ubparkering\, samlas vi innan med\ngemensam infart så löser vi detta.\n\
 nVi samlas kl.09.30 Mc Donalds vid rondellen i Falköping\, kl.10.00 åker
 \nvi gemensamt till flygplatsen och åker in alla samtidigt.\n\nCluben bet
 alar entrebiljett och fika\n\nAnmälan på hemsidan el. till Christer tel.
 070-6602238\n\nVälkomna\, och vi har beställt fint väder\n\nMvh.Christe
 r
LOCATION:Falköping Flygplats\, Falköping\, Falköping\, Sverige
GEO:58.173218523249126;13.596818989746112
X-APPLE-STRUCTURED-LOCATION;VALUE=URI;X-ADDRESS=Falköping\, Falköping\, S
 verige;X-APPLE-RADIUS=100;X-TITLE=Falköping Flygplats:geo:58.173218523249
 126,13.596818989746112
END:VEVENT
BEGIN:VTIMEZONE
TZID:Europe/Stockholm
X-LIC-LOCATION:Europe/Stockholm
BEGIN:DAYLIGHT
DTSTART:20170326T030000
TZOFFSETFROM:+0100
TZOFFSETTO:+0200
TZNAME:CEST
END:DAYLIGHT
END:VTIMEZONE
END:VCALENDAR