BEGIN:VCALENDAR
VERSION:2.0
PRODID:-//wp-events-plugin.com//7.1.7//EN
TZID:Europe/Stockholm
X-WR-TIMEZONE:Europe/Stockholm
BEGIN:VEVENT
UID:10-2101@clubcorvette.se
DTSTART;TZID=Europe/Stockholm;VALUE=DATE:20190504
DTEND;TZID=Europe/Stockholm;VALUE=DATE:20190505
DTSTAMP:20190411T174844Z
URL:https://clubcorvette.se/greatlakedistrict/aktivitet/bilbesiktning-lord
 ag-4-maj-dekra-i-skovde/
SUMMARY:Bilbesiktning Lördag 4 maj Dekra i Skövde " SE INBJUDAN "
DESCRIPTION:\n\nBilbesiktning Lördag 4 maj Dekra i Skövde\n\nNu är det d
 ags att besiktiga våra Corvetter \,kom till Dekra Lördagen den 4 maj med
  start kl. 9\,00-12\,00\n\nSista anmälningsdag 10/4\n\nAnmälan kan göra
 s på hemsidan eller till Anders på tel .0703178026\n\nGlöm ej att ange 
 regnummer vid anmälan\n\nClubben bjuder på fika\n\nVälkomna\n\nAnders\n
 \n&nbsp\;\n\n&nbsp\;
END:VEVENT
BEGIN:VTIMEZONE
TZID:Europe/Stockholm
X-LIC-LOCATION:Europe/Stockholm
BEGIN:DAYLIGHT
DTSTART:20190331T030000
TZOFFSETFROM:+0100
TZOFFSETTO:+0200
TZNAME:CEST
END:DAYLIGHT
END:VTIMEZONE
END:VCALENDAR