BEGIN:VCALENDAR
VERSION:2.0
PRODID:-//wp-events-plugin.com//7.1.7//EN
TZID:Europe/Stockholm
X-WR-TIMEZONE:Europe/Stockholm
BEGIN:VEVENT
UID:10-1647@clubcorvette.se
DTSTART;TZID=Europe/Stockholm:20170916T080000
DTEND;TZID=Europe/Stockholm:20170917T150000
DTSTAMP:20170729T160737Z
URL:https://clubcorvette.se/greatlakedistrict/aktivitet/avstallningshelg-1
 6-17-september/
SUMMARY:Avställningshelg 16-17 September " SE INBJUDAN "
DESCRIPTION:&nbsp\;\n\n16-17 September är ni välkomna att deltaga på avs
 tällningsträff som  kommer att äga rum på Orust.\n\nVi bor och har v
 år bas på Vindöns camping och marina i vandrarhem och  stugor . Boende
 t är så fördelat att vi bor parvis i både stugor och vandrarhem.\nLör
 dagen kommer att ägnas åt cruising och se oss runt på ön som har mång
 a sevärdheter att beskåda \, vem vet kanske handelsman Flinck  är hemm
 a. Lunch kommer att intagas på en restaurang i Lysekil. På kvällen blir
  det grillning och trivsam gemenskap i det nya  uterummet vid vandrarhemm
 et.\n\nHoppas med detta att vi får en fin och trevlig avslutning på denn
 a  Corvettesommar.\n\n*Samling:* Lördag 16 September Kl.08.00 Tre Älgar
  i Grästorp\n\n*Kostnad:* 250:-/person inkluderar boende\,2x fika samt mi
 ddag på\nLörd.kväll.  Utöver detta tillkommer lunch\n\nÄr det någon
  som har någon form av matallergi säg i så fall till om detta.\n*OBS *m
 edtag sängkläder och handduk\n\n*Anmälan *och eller frågor till Christ
 er på *Tel.070-6602238*
LOCATION:Vindöns camping\, Orust\, Orust\, Sverige
GEO:58.18664149999999;11.606918899999982
X-APPLE-STRUCTURED-LOCATION;VALUE=URI;X-ADDRESS=Orust\, Orust\, Sverige;X-A
 PPLE-RADIUS=100;X-TITLE=Vindöns camping:geo:58.18664149999999,11.60691889
 9999982
END:VEVENT
BEGIN:VTIMEZONE
TZID:Europe/Stockholm
X-LIC-LOCATION:Europe/Stockholm
BEGIN:DAYLIGHT
DTSTART:20170326T030000
TZOFFSETFROM:+0100
TZOFFSETTO:+0200
TZNAME:CEST
END:DAYLIGHT
END:VTIMEZONE
END:VCALENDAR