BEGIN:VCALENDAR
VERSION:2.0
PRODID:-//wp-events-plugin.com//7.1.7//EN
TZID:Europe/Stockholm
X-WR-TIMEZONE:Europe/Stockholm
BEGIN:VEVENT
UID:12-4342@clubcorvette.se
DTSTART;TZID=Europe/Stockholm:20260606T110000
DTEND;TZID=Europe/Stockholm:20260606T160000
DTSTAMP:20251215T160553Z
URL:https://clubcorvette.se/dalarna-halsingland/aktivitet/monztabanan-i-al
 vdalen/
SUMMARY:Monztabanan i Älvdalen. Övningskörning.
DESCRIPTION:Övningskörning på Monztabanan i Älvdalen\, lördag 6/6 kl. 
 12-16.\n\nKostnad för anmälan och körning: 850:-/bil. Om SMA licens beh
 övs\, tillkommer den\, undersökning pågår. Anmälan sker via hemsidan 
 och är bindande. Anmälan senast den 1/6 Vi behöver minst 10 st som vill
  delta för att kunna genomföra det hela.\n\nAnmälan genom att trycka p
 å knappen ovan\, ni måste då vara inloggade. Har ni problem med inloggn
 ing kontakta Pepphe på nedan tel.nr.\n\nOm betalning för anmälningsavgi
 ft och ev. SMA-licens kommer att mailas till er som anmäler er. Lunch åt
 erkommer vi med\, kan bli gemensamt i Älvdalen kl. 11.00 på lämpligt st
 älle för de som önskar. Ni som inte vill köra på banan är mycket vä
 lkomna att komma och delta som på vilken CCS träff som helst. Kanske ni 
 kan få åka med runt banan av någon snäll förare.\n\nNi som vill öve
 rnatta lördag till söndag bokar själva rum på Älvdalen Hotell\, tel: 
 0251-10500\, ange Club Corvette. Gemensam middag på kvällen.\n\nArrangö
 r och frågor till Pepphe Helgesson 070-5192673 eller Rolf Vigström 070-5
 717598.\n\nTill Monztabanan har yrkeschaufförer och motorintresserade ko
 mmit i generationer. Banan asfalterades på 90-talet och är ritad tillsam
 mans med Vägverket.\n\nBanan används som övningsbana för ambulans\, po
 lis\, MC och andra bilklubbar som vill prova sin bil lite mer än vad som 
 går att köra på en allmän väg. Det är en fantastisk bana att prova p
 å när man är nybörjare.\n\nMonztabanan är en kuperad bana med ett ytt
 ervarv på 2\,4 km. I mitten av banan finns den så kallade ”Michelinrak
 an” med en bredd på 10 meter\, som används för bland annat bromsövni
 ngar.\n\nAnsvar: Den som deltar i detta arrangemang gör det under eget an
 svar och på egen risk. Genom att Monztabanan är en övningsbana där ing
 en tidtagning sker så kan vanliga trafikförsäkringen gälla men det ål
 igger varje deltagare att själv kontrollera villkoren med sitt försäkri
 ngsbolag.\n\nOm SMA licens krävs Så tillkommer nedan:\n\nKlubbens förs
 äkring gäller främst tredje person\, åskådare och funktionärer. Den 
 täcker inte materiel\, dig själv eller din bil. Skadar du andra personer
  under arrangemanget är deras skador täckta av denna försäkring.\n\nF
 örare är olycksfallsförsäkrade genom den förarförsäkring du får vi
 a din SMA-licensen. Ni som inte har SMA-licens måste teckna en provapå
 -licens.\n\nBilens trafikförsäkring gäller ej för några personer elle
 r materiella skador. Om du skadar din egna bil gäller generellt inte din 
 vanliga bilförsäkring utan du får personligen svara för kostnaden. Det
  är upp till varje förare att kontrollera eventuella undantag med sitt e
 gna försäkringsbolag inför varje tillfälle.\n\nMateriella skador ansva
 rar föraren för\, om du exempelvis kör sönder ett räcke\, någon anna
 ns bil osv. Så om du skadar andras bilar etc. gäller ingen försäkring 
 utan du som förare får personligen betala alla kostnader.
ATTACH;FMTTYPE=image/jpeg:https://clubcorvette.se/dalarna-halsingland/wp-c
 ontent/uploads/sites/12/2024/11/P1080667.jpg
CATEGORIES:Sommarträff
LOCATION:Monztabanan Älvdalen\, Månsta\, Älvdalen\, Sverige
GEO:61.256624;14.015571
X-APPLE-STRUCTURED-LOCATION;VALUE=URI;X-ADDRESS=Månsta\, Älvdalen\, Sveri
 ge;X-APPLE-RADIUS=100;X-TITLE=Monztabanan Älvdalen:geo:61.256624,14.01557
 1
END:VEVENT
BEGIN:VTIMEZONE
TZID:Europe/Stockholm
X-LIC-LOCATION:Europe/Stockholm
BEGIN:DAYLIGHT
DTSTART:20260329T030000
TZOFFSETFROM:+0100
TZOFFSETTO:+0200
TZNAME:CEST
END:DAYLIGHT
END:VTIMEZONE
END:VCALENDAR