BEGIN:VCALENDAR
VERSION:2.0
PRODID:-//wp-events-plugin.com//7.1.7//EN
TZID:Europe/Stockholm
X-WR-TIMEZONE:Europe/Stockholm
BEGIN:VEVENT
UID:1-1958@clubcorvette.se
DTSTART;TZID=Europe/Stockholm:20180615T100000
DTEND;TZID=Europe/Stockholm:20180615T100000
DTSTAMP:20180328T161253Z
URL:https://clubcorvette.se/aktivitet/sommarmote-2018-tur-till-halden-och-
 fredrikstens-fastning/
SUMMARY:Sommarmöte 2018 - Tur till Halden och Fredrikstens fästning
DESCRIPTION:Fredriksten är en fästning vid staden Halden (som 1665-19
 28 hette Fredrikshald) i Norge\, uppkallad efter Fredrik III av Danmar
 k. Vid en svensk belägring av fästningen under hösten 1718 stupade K
 arl XII här den 30 november.\n\nRolandsskansen byggdes 1659 av norrm
 ännen till försvar av Halden och ingick sedermera i Fredrikstens bef
 ästningar.\n\nAllsång på gränsen spelas sedan 2007 in här varje so
 mmar.\n\n&nbsp\;\n\nBelägringen av Fredrikstens fästning i Fredrikshald
  påbörjades den 1718\, varvid fästningen tillsammans med hamnstaden
  Fredrikshald (nuvarande Halden) belägrades av den svenska armén. Bel
 ägring fortsatte till den 14 december samma år då de krigströtta sven
 ska styrkorna gav upp företaget som en följd av att Karl XII hade stup
 at.\n\n\n\n1718 anlände Karl XII och den svenska armén\, med cirka 350
 00 man till Fredrikshald. Med sig hade Karl XII den franska belägrings
 experten Philippe Maigret. Senare kom även Carl Gustaf Rehnskiöld\, fr
 igiven efter rysk fångenskap. Fästningen hade en styrka på 1400-1800 ma
 n som visste att vägen stod öppen till Oslo\, om fästningen skulle fall
 a.\n\nDen 30 november gick Karl XII som vanligt ut i skyttegravarna oc
 h kikade. Den här natten var han allra längst fram i skyttegraven. Mella
 n klockan nio och tio fick han en kula i vänster tinning och avled ögonb
 lickligen. I och med hans död försvann all kampvilja hos de redan krigst
 rötta svenskarna\, och de begav sig senare tillbaka till Sverige. Karl XI
 I:s fälttåg mot Norge slutade på nästan samma plats där det börjat.
  Prosten Magnus Abraham Sahlstedt som tjänstgjorde som kyrkoherde i
  Stora Tuna socken 1725 till sin död 1752\, var tidigare fältpräst
  hos Karl XII och skall ha predikat för kungen samma dag som det dödand
 e skottet avlossades mot kungen.\n\n&nbsp\;\n\nRutt\n\n·       Greb
 bestad till Vassbotten (finns tre möjliga rutter)\n\n·       Vassb
 otten till Halden (vacker väg)\n\n·       Halden till Grebbestad v
 ia Svinesund (betalbro)\n\nMöjliga avstickare på återvägen\, Krokstran
 d (f.d. stenhuggare samhälle)\, Nordby köpcenter (nära Svinesund)\, Str
 ömstad.\n\n\n\n\n\n\n\nDenna tur kan göras enskilt eller i organiserad f
 orm\n\nUppställning längs TanumStrands vägen för avfärd 10:00 i organ
 iserad form. Vi kör mot Tanumshede och svänger av gamla E6 (skyltat Knä
 m) och samlar upp deltagande bilar för att därefter köra till Fredrikst
 ens fästning.\n\nLedarbil Shark Gray C7 EXX083 (för de som vill åka org
 aniserat)\n\n&nbsp\;\n\nVid frågor\, kontakta Dick Karlsson: 070-695 89 5
 4
CATEGORIES:Riks,Sommarträff
LOCATION:Fredrikstens fästning\, Generalveien\, Halden\, 1776\, Norge
GEO:59.1199455;11.397006499999975
X-APPLE-STRUCTURED-LOCATION;VALUE=URI;X-ADDRESS=Generalveien\, Halden\, 177
 6\, Norge;X-APPLE-RADIUS=100;X-TITLE=Fredrikstens fästning:geo:59.1199455
 ,11.397006499999975
END:VEVENT
BEGIN:VTIMEZONE
TZID:Europe/Stockholm
X-LIC-LOCATION:Europe/Stockholm
BEGIN:DAYLIGHT
DTSTART:20180325T030000
TZOFFSETFROM:+0100
TZOFFSETTO:+0200
TZNAME:CEST
END:DAYLIGHT
END:VTIMEZONE
END:VCALENDAR